BEGIN:VCALENDAR
VERSION:2.0
PRODID:-//Claudio Lardo - ECPv6.15.20//NONSGML v1.0//EN
CALSCALE:GREGORIAN
METHOD:PUBLISH
X-WR-CALNAME:Claudio Lardo
X-ORIGINAL-URL:https://www.claudiolardo.it
X-WR-CALDESC:Eventi per Claudio Lardo
REFRESH-INTERVAL;VALUE=DURATION:PT1H
X-Robots-Tag:noindex
X-PUBLISHED-TTL:PT1H
BEGIN:VTIMEZONE
TZID:Europe/Rome
BEGIN:DAYLIGHT
TZOFFSETFROM:+0100
TZOFFSETTO:+0200
TZNAME:CEST
DTSTART:20210328T010000
END:DAYLIGHT
BEGIN:STANDARD
TZOFFSETFROM:+0200
TZOFFSETTO:+0100
TZNAME:CET
DTSTART:20211031T010000
END:STANDARD
BEGIN:DAYLIGHT
TZOFFSETFROM:+0100
TZOFFSETTO:+0200
TZNAME:CEST
DTSTART:20220327T010000
END:DAYLIGHT
BEGIN:STANDARD
TZOFFSETFROM:+0200
TZOFFSETTO:+0100
TZNAME:CET
DTSTART:20221030T010000
END:STANDARD
BEGIN:DAYLIGHT
TZOFFSETFROM:+0100
TZOFFSETTO:+0200
TZNAME:CEST
DTSTART:20230326T010000
END:DAYLIGHT
BEGIN:STANDARD
TZOFFSETFROM:+0200
TZOFFSETTO:+0100
TZNAME:CET
DTSTART:20231029T010000
END:STANDARD
END:VTIMEZONE
BEGIN:VEVENT
DTSTART;TZID=Europe/Rome:20221203T211500
DTEND;TZID=Europe/Rome:20221203T231500
DTSTAMP:20260426T035037
CREATED:20230308T103014Z
LAST-MODIFIED:20230308T103014Z
UID:3948-1670102100-1670109300@www.claudiolardo.it
SUMMARY:[:it]Spettacolo "Eccomi ma non vi affezionate troppo" @ Teatro Ridotto - Salerno - 03/12/2022[:]
DESCRIPTION:Angelo Belgiovine in “Scusate\, sono di passaggio!” \nUno spettacolo dirompente\, tipico di quell’irresistibile cabaret-teatro firmato Belgiovine. \nCon:\nClaudio Lardo – Pianoforte
URL:https://www.claudiolardo.it/event/spettacolo-eccomi-ma-non-vi-affezionate-troppo-teatro-ridotto-salerno-03-12-2022/
LOCATION:Teatro Ridotto\, Via Guerino Grimaldi\, 7\, Salerno\, SA\, 84126\, Italia
CATEGORIES:Teatro
ATTACH;FMTTYPE=image/png:https://www.claudiolardo.it/wp-content/uploads/2023/03/Locandina-Stretta-Ridotto.png
END:VEVENT
END:VCALENDAR