BEGIN:VCALENDAR
VERSION:2.0
PRODID:-//Claudio Lardo - ECPv6.15.20//NONSGML v1.0//EN
CALSCALE:GREGORIAN
METHOD:PUBLISH
X-WR-CALNAME:Claudio Lardo
X-ORIGINAL-URL:https://www.claudiolardo.it
X-WR-CALDESC:Events for Claudio Lardo
REFRESH-INTERVAL;VALUE=DURATION:PT1H
X-Robots-Tag:noindex
X-PUBLISHED-TTL:PT1H
BEGIN:VTIMEZONE
TZID:Europe/Rome
BEGIN:DAYLIGHT
TZOFFSETFROM:+0100
TZOFFSETTO:+0200
TZNAME:CEST
DTSTART:20190331T010000
END:DAYLIGHT
BEGIN:STANDARD
TZOFFSETFROM:+0200
TZOFFSETTO:+0100
TZNAME:CET
DTSTART:20191027T010000
END:STANDARD
BEGIN:DAYLIGHT
TZOFFSETFROM:+0100
TZOFFSETTO:+0200
TZNAME:CEST
DTSTART:20200329T010000
END:DAYLIGHT
BEGIN:STANDARD
TZOFFSETFROM:+0200
TZOFFSETTO:+0100
TZNAME:CET
DTSTART:20201025T010000
END:STANDARD
BEGIN:DAYLIGHT
TZOFFSETFROM:+0100
TZOFFSETTO:+0200
TZNAME:CEST
DTSTART:20210328T010000
END:DAYLIGHT
BEGIN:STANDARD
TZOFFSETFROM:+0200
TZOFFSETTO:+0100
TZNAME:CET
DTSTART:20211031T010000
END:STANDARD
BEGIN:DAYLIGHT
TZOFFSETFROM:+0100
TZOFFSETTO:+0200
TZNAME:CEST
DTSTART:20220327T010000
END:DAYLIGHT
BEGIN:STANDARD
TZOFFSETFROM:+0200
TZOFFSETTO:+0100
TZNAME:CET
DTSTART:20221030T010000
END:STANDARD
BEGIN:DAYLIGHT
TZOFFSETFROM:+0100
TZOFFSETTO:+0200
TZNAME:CEST
DTSTART:20230326T010000
END:DAYLIGHT
BEGIN:STANDARD
TZOFFSETFROM:+0200
TZOFFSETTO:+0100
TZNAME:CET
DTSTART:20231029T010000
END:STANDARD
BEGIN:DAYLIGHT
TZOFFSETFROM:+0100
TZOFFSETTO:+0200
TZNAME:CEST
DTSTART:20240331T010000
END:DAYLIGHT
BEGIN:STANDARD
TZOFFSETFROM:+0200
TZOFFSETTO:+0100
TZNAME:CET
DTSTART:20241027T010000
END:STANDARD
BEGIN:DAYLIGHT
TZOFFSETFROM:+0100
TZOFFSETTO:+0200
TZNAME:CEST
DTSTART:20250330T010000
END:DAYLIGHT
BEGIN:STANDARD
TZOFFSETFROM:+0200
TZOFFSETTO:+0100
TZNAME:CET
DTSTART:20251026T010000
END:STANDARD
END:VTIMEZONE
BEGIN:VEVENT
DTSTART;TZID=Europe/Rome:20240831T204500
DTEND;TZID=Europe/Rome:20240831T220000
DTSTAMP:20260422T231711
CREATED:20240830T095834Z
LAST-MODIFIED:20240830T095834Z
UID:4150-1725137100-1725141600@www.claudiolardo.it
SUMMARY:[:it]Spettacolo "La pergamena bianca" - @ Arena de la Cava - Cava de' Tirreni - 31/08/2024[:en]Show "The White Parchment" - @ Arena de la Cava - Cava de' Tirreni - 08/31/2024[:]
DESCRIPTION:FREE ENTRANCE \n\nIt is the historical reenactment\, written by José Elia\, of the events of 1460\, which led the Cavoti (people of Cava)\, guided by Mayor Onofrio Scannapieco (Claudio Lardo)\, to resist the attacks of Giovanni d’Angiò\, King of France\, while remaining loyal to Ferrante d’Aragona\, in the bloody war for the Throne of Naples. After the victory\, Ferrante d’Aragona\, having retained the title of King of Naples\, awarded the Città de la Cava (today Cava de’ Tirreni) an invaluable prize: a blank parchment with his signature\, on which the loyal people of Cava could have requested any reward. However\, driven by ideals of loyalty and honor\, they left it untouched and “white”. \nToday\, the original Blank Parchment is still on display at the Town Hall of Cava de’ Tirreni.
URL:https://www.claudiolardo.it/event/spettacolo-la-pergamena-bianca-arena-de-la-cava-cava-de-tirreni-31-08-2024/
LOCATION:Arena de la Cava\, Via Ido Longo 11\, Cava de' Tirreni\, SA\, 84013\, Italy
CATEGORIES:Teatro
ATTACH;FMTTYPE=image/jpeg:https://www.claudiolardo.it/wp-content/uploads/2024/08/LocandinaPergamena.jpg
ORGANIZER;CN="Sbandieratori Citt%C3%A0 de la Cava":MAILTO:cittadelacava@gmail.com
END:VEVENT
BEGIN:VEVENT
DTSTART;TZID=Europe/Rome:20230916T210000
DTEND;TZID=Europe/Rome:20230916T233000
DTSTAMP:20260422T231711
CREATED:20230904T113111Z
LAST-MODIFIED:20230904T113111Z
UID:3978-1694898000-1694907000@www.claudiolardo.it
SUMMARY:[:it]Spettacolo “Il pallone di pezza” @ Centro Polifunzionale – Buccino – 16/09/2023[:]
DESCRIPTION:Sorry\, this entry is only available in Italiano.
URL:https://www.claudiolardo.it/event/spettacolo-il-pallone-di-pezza-centro-polifunzionale-buccino-16-09-2023/
LOCATION:Auditorium del Centro polifunzionale “Volcei” – Buccino\, Via Tempone\, Buccino\, SA\, 84021\, Italia
CATEGORIES:Teatro
ATTACH;FMTTYPE=image/jpeg:https://www.claudiolardo.it/wp-content/uploads/2016/08/FotoDiScena-4bis.jpg
ORGANIZER;CN="Comune di Buccino":MAILTO:protocollo@pec.comune.buccino.sa.it
END:VEVENT
BEGIN:VEVENT
DTSTART;TZID=Europe/Rome:20230908T211500
DTEND;TZID=Europe/Rome:20230908T223000
DTSTAMP:20260422T231711
CREATED:20230904T091418Z
LAST-MODIFIED:20230906T112643Z
UID:3974-1694207700-1694212200@www.claudiolardo.it
SUMMARY:[:it]Spettacolo “Il pallone di pezza” @ Teatro dei Barbuti – Salerno – 08/09/2023[:]
DESCRIPTION:Sorry\, this entry is only available in Italiano.
URL:https://www.claudiolardo.it/event/spettacolo-il-pallone-di-pezza-teatro-dei-barbuti-salerno-08-09-2023/
LOCATION:Teatro dei Barbuti\, Largo dei Barbuti\, Salerno\, SA\, 84121\, Italia
CATEGORIES:Teatro
ATTACH;FMTTYPE=image/jpeg:https://www.claudiolardo.it/wp-content/uploads/2023/09/FotoDiScena-4quater.jpg
END:VEVENT
BEGIN:VEVENT
DTSTART;TZID=Europe/Rome:20221203T211500
DTEND;TZID=Europe/Rome:20221203T231500
DTSTAMP:20260422T231711
CREATED:20230308T103014Z
LAST-MODIFIED:20230308T103014Z
UID:3948-1670102100-1670109300@www.claudiolardo.it
SUMMARY:[:it]Spettacolo "Eccomi ma non vi affezionate troppo" @ Teatro Ridotto - Salerno - 03/12/2022[:]
DESCRIPTION:Sorry\, this entry is only available in Italiano.
URL:https://www.claudiolardo.it/event/spettacolo-eccomi-ma-non-vi-affezionate-troppo-teatro-ridotto-salerno-03-12-2022/
LOCATION:Teatro Ridotto\, Via Guerino Grimaldi\, 7\, Salerno\, SA\, 84126\, Italia
CATEGORIES:Teatro
ATTACH;FMTTYPE=image/png:https://www.claudiolardo.it/wp-content/uploads/2023/03/Locandina-Stretta-Ridotto.png
END:VEVENT
BEGIN:VEVENT
DTSTART;TZID=Europe/Rome:20220907T210000
DTEND;TZID=Europe/Rome:20220907T230000
DTSTAMP:20260422T231711
CREATED:20230308T094905Z
LAST-MODIFIED:20230308T094905Z
UID:3932-1662584400-1662591600@www.claudiolardo.it
SUMMARY:[:it]Spettacolo "Scusate sono di passaggio" @ Arena Arbostella - Napoli - 07/09/2022[:]
DESCRIPTION:Sorry\, this entry is only available in Italiano.
URL:https://www.claudiolardo.it/event/spettacolo-scusate-sono-di-passaggio-arena-arbostella-napoli-07-09-2022/
LOCATION:Arena Arbostella\, Viale Giuseppe Verdi\, Salerno\, SA\, 84131\, Italia
CATEGORIES:Teatro
ATTACH;FMTTYPE=image/png:https://www.claudiolardo.it/wp-content/uploads/2023/03/Locandina-Stretta-Arbo.png
END:VEVENT
BEGIN:VEVENT
DTSTART;TZID=Europe/Rome:20220722T210000
DTEND;TZID=Europe/Rome:20220722T233000
DTSTAMP:20260422T231711
CREATED:20230308T100926Z
LAST-MODIFIED:20230308T100926Z
UID:3943-1658523600-1658532600@www.claudiolardo.it
SUMMARY:[:it]Spettacolo "Il carro di Dioniso" @ Anfiteatro Campano - S.Maria C.V. (CE) - 22/07/2022[:]
DESCRIPTION:Sorry\, this entry is only available in Italiano.
URL:https://www.claudiolardo.it/event/spettacolo-il-carro-di-dioniso-anfiteatro-campano-s-maria-c-v-ce-22-07-2022/
LOCATION:Anfiteatro Campano\, Piazza Adriano\, Santa Maria Capua Vetere\, CE\, 81055\, Italia
CATEGORIES:Teatro
ATTACH;FMTTYPE=image/jpeg:https://www.claudiolardo.it/wp-content/uploads/2021/07/IlCarroDiDionisoLocandina-Small-1-e1678270152723.jpeg
END:VEVENT
BEGIN:VEVENT
DTSTART;TZID=Europe/Rome:20220721T210000
DTEND;TZID=Europe/Rome:20220721T233000
DTSTAMP:20260422T231711
CREATED:20230308T100047Z
LAST-MODIFIED:20230308T100340Z
UID:3939-1658437200-1658446200@www.claudiolardo.it
SUMMARY:[:it]Spettacolo "Il carro di Dioniso" @ Anfiteatro Romano - Sutri (VT) - 21/07/2022[:]
DESCRIPTION:Sorry\, this entry is only available in Italiano.
URL:https://www.claudiolardo.it/event/spettacolo-il-carro-di-dioniso-anfiteatro-romano-sutri-vt-21-07-2022/
LOCATION:Anfiteatro Romano di Sutri\, via Cassia\, SP82\, Sutri\, VT\, 01015\, Italia
CATEGORIES:Teatro
ATTACH;FMTTYPE=image/jpeg:https://www.claudiolardo.it/wp-content/uploads/2021/07/IlCarroDiDionisoLocandina-Small-1-e1678270152723.jpeg
END:VEVENT
BEGIN:VEVENT
DTSTART;TZID=Europe/Rome:20220720T080000
DTEND;TZID=Europe/Rome:20220720T170000
DTSTAMP:20260422T231711
CREATED:20230308T095602Z
LAST-MODIFIED:20230308T100407Z
UID:3936-1658304000-1658336400@www.claudiolardo.it
SUMMARY:[:it]Spettacolo "Il carro di Dioniso" @ Teatro Romano - Volterra (PI) - 20/07/2022[:]
DESCRIPTION:Sorry\, this entry is only available in Italiano.
URL:https://www.claudiolardo.it/event/spettacolo-il-carro-di-dioniso-teatro-romano-volterra-pi-20-07-2022/
LOCATION:Teatro Romano Volterra\, Piazza Caduti nei Lager Nazisti\, Volterra\, PI\, 56048\, Italia
CATEGORIES:Teatro
ATTACH;FMTTYPE=image/jpeg:https://www.claudiolardo.it/wp-content/uploads/2021/07/IlCarroDiDionisoLocandina-Small-1-e1678270152723.jpeg
END:VEVENT
BEGIN:VEVENT
DTSTART;TZID=Europe/Rome:20220521T213000
DTEND;TZID=Europe/Rome:20220521T230000
DTSTAMP:20260422T231711
CREATED:20230308T092016Z
LAST-MODIFIED:20230308T092016Z
UID:3928-1653168600-1653174000@www.claudiolardo.it
SUMMARY:[:it]Spettacolo "Scusate sono di passaggio" @ Teatro CortéSe - 21/05/2022[:]
DESCRIPTION:Sorry\, this entry is only available in Italiano.
URL:https://www.claudiolardo.it/event/spettacolo-scusate-sono-di-passaggio-teatro-cortese-21-05-2022/
LOCATION:Teatro CortéSe\, Viale del Capricorno\, 4\, Napoli\, NA\, 80131\, Italia
CATEGORIES:Teatro
ATTACH;FMTTYPE=image/png:https://www.claudiolardo.it/wp-content/uploads/2023/03/Locandina-Quadrata-21-05.png
END:VEVENT
BEGIN:VEVENT
DTSTART;TZID=Europe/Rome:20220501T183000
DTEND;TZID=Europe/Rome:20220501T210000
DTSTAMP:20260422T231711
CREATED:20220224T111931Z
LAST-MODIFIED:20220224T112048Z
UID:3792-1651429800-1651438800@www.claudiolardo.it
SUMMARY:[:it]Spettacolo "Nati 80 (...Amori e non)" @ Teatro Delle Arti di Salerno - 01/05/2022[:]
DESCRIPTION:Sorry\, this entry is only available in Italiano.
URL:https://www.claudiolardo.it/event/english-spettacolo-nati-80-amori-e-non-teatro-delle-arti-di-salerno-01-05-2022/
LOCATION:Teatro Delle Arti\, Via Guerino Grimaldi 7\, Salerno\, SA\, 84125\, Italia
CATEGORIES:Teatro
ATTACH;FMTTYPE=image/jpeg:https://www.claudiolardo.it/wp-content/uploads/2017/10/Nati80-LocandinaGenerica.jpg
END:VEVENT
BEGIN:VEVENT
DTSTART;TZID=Europe/Rome:20220430T210000
DTEND;TZID=Europe/Rome:20220430T233000
DTSTAMP:20260422T231711
CREATED:20220224T111758Z
LAST-MODIFIED:20220224T112121Z
UID:3789-1651352400-1651361400@www.claudiolardo.it
SUMMARY:[:it]Spettacolo "Nati 80 (...Amori e non)" @ Teatro Delle Arti di Salerno - 30/04/2022[:]
DESCRIPTION:Sorry\, this entry is only available in Italiano.
URL:https://www.claudiolardo.it/event/english-spettacolo-nati-80-amori-e-non-teatro-delle-arti-di-salerno-30-04-2022/
LOCATION:Teatro Delle Arti\, Via Guerino Grimaldi 7\, Salerno\, SA\, 84125\, Italia
CATEGORIES:Teatro
ATTACH;FMTTYPE=image/jpeg:https://www.claudiolardo.it/wp-content/uploads/2017/10/Nati80-LocandinaGenerica.jpg
END:VEVENT
BEGIN:VEVENT
DTSTART;TZID=Europe/Rome:20220306T183000
DTEND;TZID=Europe/Rome:20220306T210000
DTSTAMP:20260422T231711
CREATED:20191003T165404Z
LAST-MODIFIED:20220304T124416Z
UID:3091-1646591400-1646600400@www.claudiolardo.it
SUMMARY:[:it]Spettacolo "Nati 80 (...Amori e non)" @ Teatro Bracco di Napoli - 06/03/2022[:]
DESCRIPTION:Sorry\, this entry is only available in Italiano.
URL:https://www.claudiolardo.it/event/spettacolo-nati-80-amori-e-non-teatro-bracco-di-napoli-22-03-2020/
LOCATION:Teatro Bracco\, Via Tarsia\, 40\, Napoli\, 80134\, Italia
CATEGORIES:Teatro
ATTACH;FMTTYPE=image/jpeg:https://www.claudiolardo.it/wp-content/uploads/2017/10/Nati80-LocandinaGenerica.jpg
END:VEVENT
BEGIN:VEVENT
DTSTART;TZID=Europe/Rome:20220305T193000
DTEND;TZID=Europe/Rome:20220305T213000
DTSTAMP:20260422T231711
CREATED:20191003T165219Z
LAST-MODIFIED:20220304T122917Z
UID:3088-1646508600-1646515800@www.claudiolardo.it
SUMMARY:[:it]Spettacolo "Nati 80 (...Amori e non)" @ Teatro Bracco di Napoli - 05/03/2022[:]
DESCRIPTION:Sorry\, this entry is only available in Italiano.
URL:https://www.claudiolardo.it/event/spettacolo-nati-80-amori-e-non-teatro-bracco-di-napoli-21-03-2020/
LOCATION:Teatro Bracco\, Via Tarsia\, 40\, Napoli\, 80134\, Italia
CATEGORIES:Teatro
ATTACH;FMTTYPE=image/jpeg:https://www.claudiolardo.it/wp-content/uploads/2017/10/Nati80-LocandinaGenerica.jpg
END:VEVENT
BEGIN:VEVENT
DTSTART;TZID=Europe/Rome:20220304T210000
DTEND;TZID=Europe/Rome:20220304T233000
DTSTAMP:20260422T231711
CREATED:20220224T110454Z
LAST-MODIFIED:20220224T110454Z
UID:3785-1646427600-1646436600@www.claudiolardo.it
SUMMARY:[:it]Spettacolo "Nati 80 (...Amori e non)" @ Teatro Charlot di Capezzano (SA) - 04/03/2022[:]
DESCRIPTION:Sorry\, this entry is only available in Italiano.
URL:https://www.claudiolardo.it/event/spettacolo-nati-80-amori-e-non-teatro-charlot-di-capezzano-sa-04-03-2022/
LOCATION:Teatro Charlot\, Piazza Don Gerardo Fiore\, Capezzano\, SA\, 84080\, Italia
CATEGORIES:Teatro
ATTACH;FMTTYPE=image/jpeg:https://www.claudiolardo.it/wp-content/uploads/2017/10/Nati80-LocandinaGenerica.jpg
END:VEVENT
BEGIN:VEVENT
DTSTART;TZID=Europe/Rome:20220129T204500
DTEND;TZID=Europe/Rome:20220129T224500
DTSTAMP:20260422T231711
CREATED:20211022T100234Z
LAST-MODIFIED:20211022T100408Z
UID:3639-1643489100-1643496300@www.claudiolardo.it
SUMMARY:[:it]Spettacolo "Il carro di Dioniso" @ Cinema Teatro Eduardo - Opera (MI) - 29/01/2022 20:45[:en]Show "Il carro di Dioniso" @ Cinema Teatro Eduardo - Opera (MI) - 2022.01.29 8:45pm[:]
DESCRIPTION:With Vito Cesaro & Denny Mendez – and: Massimo Pagano\, Claudio Lardo\, Christian Salicone and Filippo D’Amato. \nDirected by Vito Cesaro
URL:https://www.claudiolardo.it/event/spettacolo-il-carro-di-dioniso-cinema-teatro-eduardo-opera-mi-29-01-2022-2045/
LOCATION:Cinema Teatro Eduardo\, Via Papa Giovanni XXIII 5/F\, Opera\, MI\, 20090\, Italia
CATEGORIES:Teatro
ATTACH;FMTTYPE=image/jpeg:https://www.claudiolardo.it/wp-content/uploads/2021/07/IlCarroDiDionisoLocandina-Small-1-e1678270152723.jpeg
END:VEVENT
BEGIN:VEVENT
DTSTART;TZID=Europe/Rome:20211219T183000
DTEND;TZID=Europe/Rome:20211219T203000
DTSTAMP:20260422T231711
CREATED:20211216T104528Z
LAST-MODIFIED:20211216T104635Z
UID:3737-1639938600-1639945800@www.claudiolardo.it
SUMMARY:[:it]Spettacolo "La Zeza" @ Teatro sociale "Aldo Giuffré" - Battipaglia - 19/12/2021 18:30[:en]Show "La Zeza" @ Teatro sociale "Aldo Giuffré" - Battipaglia - 2021.12.19 6:30pm[:]
DESCRIPTION:with Vito Cesaro\, Claudio Lardo\, Enrica Mari\, Eduardo Di Lorenzo\, Marco De Simone\, Assunta Nigro and Christian Salicone \nWritten and directed by Dora Liguori
URL:https://www.claudiolardo.it/event/spettacolo-la-zeza-teatro-sociale-aldo-giuffre-battipaglia-19-12-2021-1830/
LOCATION:Teatro sociale “Aldo Giuffré”\, Via Guicciardini 35\, Battipaglia\, SA\, 84091\, Italia
CATEGORIES:Teatro
ATTACH;FMTTYPE=image/jpeg:https://www.claudiolardo.it/wp-content/uploads/2021/12/Zeza-LocandinaSmall.jpg
END:VEVENT
BEGIN:VEVENT
DTSTART;TZID=Europe/Rome:20211024T180000
DTEND;TZID=Europe/Rome:20211024T200000
DTSTAMP:20260422T231711
CREATED:20210927T123009Z
LAST-MODIFIED:20210927T123139Z
UID:3594-1635098400-1635105600@www.claudiolardo.it
SUMMARY:[:it]Spettacolo "Il carro di Dioniso" @ Teatro della Corte - Osoppo (UD) - 24/10/2021 18:00[:en]Show "Il carro di Dioniso" @ Teatro della Corte - Osoppo (UD) - 2021.10.24 6.00pm[:]
DESCRIPTION:With Vito Cesaro & Denny Mendez – and: Massimo Pagano\, Claudio Lardo\, Christian Salicone and Filippo D’Amato. Directed by Vito Cesaro
URL:https://www.claudiolardo.it/event/spettacolo-il-carro-di-dioniso-teatro-della-corte-osoppo-ud-24-10-2021-1800/
LOCATION:(Italiano) Teatro della Corte\, Via XXII novembre 3\, Osoppo\, UD\, 33010\, Italia
CATEGORIES:Teatro
ATTACH;FMTTYPE=image/jpeg:https://www.claudiolardo.it/wp-content/uploads/2021/07/IlCarroDiDionisoLocandina-Small-1-e1678270152723.jpeg
END:VEVENT
BEGIN:VEVENT
DTSTART;TZID=Europe/Rome:20211017T180000
DTEND;TZID=Europe/Rome:20211017T200000
DTSTAMP:20260422T231711
CREATED:20210927T120714Z
LAST-MODIFIED:20210927T121003Z
UID:3584-1634493600-1634500800@www.claudiolardo.it
SUMMARY:[:it]Spettacolo "Il carro di Dioniso" @ Teatro degli Audaci - Roma - 17/10/2021[:en]Show "Il carro di Dioniso" @ Teatro degli Audaci - Roma - 2021.10.17[:]
DESCRIPTION:With Vito Cesaro & Denny Mendez – and: Massimo Pagano\, Claudio Lardo\, Christian Salicone and Filippo D’Amato. Directed by Vito Cesaro
URL:https://www.claudiolardo.it/event/spettacolo-il-carro-di-dioniso-teatro-degli-audaci-roma-17-10-2021/
LOCATION:Teat\, Via Giuseppe De Santis\, 29\, Roma\, 00139\, Italia
CATEGORIES:Teatro
ATTACH;FMTTYPE=image/jpeg:https://www.claudiolardo.it/wp-content/uploads/2021/07/IlCarroDiDionisoLocandina-Small-1-e1678270152723.jpeg
END:VEVENT
BEGIN:VEVENT
DTSTART;TZID=Europe/Rome:20211016T210000
DTEND;TZID=Europe/Rome:20211016T230000
DTSTAMP:20260422T231711
CREATED:20210927T120201Z
LAST-MODIFIED:20210927T120412Z
UID:3578-1634418000-1634425200@www.claudiolardo.it
SUMMARY:[:it]Spettacolo "Il carro di Dioniso" @ Teatro degli Audaci - Roma - 16/10/2021[:en]Show "Il carro di Dioniso" @ Teatro degli Audaci - Roma - 2021.10.16[:]
DESCRIPTION:With Vito Cesaro & Denny Mendez – and: Massimo Pagano\, Claudio Lardo\, Christian Salicone and Filippo D’Amato. Directed by Vito Cesaro
URL:https://www.claudiolardo.it/event/spettacolo-il-carro-di-dioniso-teatro-degli-audaci-roma-16-10-2021/
LOCATION:Teat\, Via Giuseppe De Santis\, 29\, Roma\, 00139\, Italia
CATEGORIES:Teatro
ATTACH;FMTTYPE=image/jpeg:https://www.claudiolardo.it/wp-content/uploads/2021/07/IlCarroDiDionisoLocandina-Small-1-e1678270152723.jpeg
END:VEVENT
BEGIN:VEVENT
DTSTART;TZID=Europe/Rome:20211015T210000
DTEND;TZID=Europe/Rome:20211015T230000
DTSTAMP:20260422T231711
CREATED:20210927T114910Z
LAST-MODIFIED:20210927T120112Z
UID:3573-1634331600-1634338800@www.claudiolardo.it
SUMMARY:[:it]Spettacolo "Il carro di Dioniso" @ Teatro degli Audaci - Roma - 15/10/2021[:en]Show "Il carro di Dioniso" @ Teatro degli Audaci - Roma - 2021.10.15[:]
DESCRIPTION:With Vito Cesaro & Denny Mendez – and: Massimo Pagano\, Claudio Lardo\, Christian Salicone and Filippo D’Amato. Directed by Vito Cesaro
URL:https://www.claudiolardo.it/event/spettacolo-il-carro-di-dioniso-teatro-degli-audaci-roma-15-10-2021/
LOCATION:Teat\, Via Giuseppe De Santis\, 29\, Roma\, 00139\, Italia
CATEGORIES:Teatro
ATTACH;FMTTYPE=image/jpeg:https://www.claudiolardo.it/wp-content/uploads/2021/07/IlCarroDiDionisoLocandina-Small-1-e1678270152723.jpeg
END:VEVENT
BEGIN:VEVENT
DTSTART;TZID=Europe/Rome:20211014T210000
DTEND;TZID=Europe/Rome:20211014T230000
DTSTAMP:20260422T231711
CREATED:20210927T113313Z
LAST-MODIFIED:20211013T084815Z
UID:3568-1634245200-1634252400@www.claudiolardo.it
SUMMARY:[:it]Spettacolo "Il carro di Dioniso" @ Teatro degli Audaci - Roma - 14/10/2021[:en]Show "Il carro di Dioniso" @ Teatro degli Audaci - Roma - 2021.10.14[:]
DESCRIPTION:With Vito Cesaro & Denny Mendez – and: Massimo Pagano\, Claudio Lardo\, Christian Salicone and Filippo D’Amato. Directed by Vito Cesaro
URL:https://www.claudiolardo.it/event/spettacolo-il-carro-di-dioniso-teatro-degli-audaci-roma-14-10-2021/
LOCATION:Teat\, Via Giuseppe De Santis\, 29\, Roma\, 00139\, Italia
CATEGORIES:Teatro
ATTACH;FMTTYPE=image/jpeg:https://www.claudiolardo.it/wp-content/uploads/2021/07/IlCarroDiDionisoLocandina-Small-1-e1678270152723.jpeg
END:VEVENT
BEGIN:VEVENT
DTSTART;TZID=Europe/Rome:20210926T210000
DTEND;TZID=Europe/Rome:20210926T230000
DTSTAMP:20260422T231711
CREATED:20210730T103150Z
LAST-MODIFIED:20210730T103350Z
UID:3493-1632690000-1632697200@www.claudiolardo.it
SUMMARY:[:it]Spettacolo "Il carro di Dioniso" @ Teatro sociale "Aldo Giuffré" - 09/26/2021[:en]Show "Il carro di Dioniso" @ Teatro sociale "Aldo Giuffré" - 2021.09.26[:]
DESCRIPTION:With Vito Cesaro & Denny Mendez – and: Massimo Pagano\, Claudio Lardo\, Christian Salicone and Filippo D’Amato. Directed by Vito Cesaro
URL:https://www.claudiolardo.it/event/spettacolo-il-carro-di-dioniso-teatro-sociale-aldo-giuffre-09-26-2021/
LOCATION:Teatro sociale “Aldo Giuffré”\, Via Guicciardini 35\, Battipaglia\, SA\, 84091\, Italia
CATEGORIES:Teatro
ATTACH;FMTTYPE=image/jpeg:https://www.claudiolardo.it/wp-content/uploads/2021/07/IlCarroDiDionisoLocandina-Small-1-e1678270152723.jpeg
ORGANIZER;CN="[%3Ait]Assoteatro[%3A]":MAILTO:assoteatro2013@libero.it
END:VEVENT
BEGIN:VEVENT
DTSTART;TZID=Europe/Rome:20210808T210000
DTEND;TZID=Europe/Rome:20210808T230000
DTSTAMP:20260422T231711
CREATED:20210730T103147Z
LAST-MODIFIED:20210730T103526Z
UID:3492-1628456400-1628463600@www.claudiolardo.it
SUMMARY:[:it]Spettacolo "Il carro di Dioniso" @ Teatro Greco Romano di Portigliola (RC) - 08/08/2021[:en]Show "Il carro di Dioniso" @ Teatro Greco Romano di Portigliola (RC) - 2021.08.08[:]
DESCRIPTION:With Vito Cesaro & Denny Mendez – and: Massimo Pagano\, Claudio Lardo\, Christian Salicone and Filippo D’Amato. Directed by Vito Cesaro
URL:https://www.claudiolardo.it/event/spettacolo-il-carro-di-dioniso-teatro-greco-romano-di-portigliola-rc-08-08-2021/
LOCATION:Teatro Greco Romano\, Parco Archeologico di Locri Epizefiri - Contrada Drome\, Portigliola\, RC\, 89040\, Italia
CATEGORIES:Teatro
ATTACH;FMTTYPE=image/jpeg:https://www.claudiolardo.it/wp-content/uploads/2021/07/IlCarroDiDionisoLocandina-Small-1-e1678270152723.jpeg
END:VEVENT
BEGIN:VEVENT
DTSTART;TZID=Europe/Rome:20210806T210000
DTEND;TZID=Europe/Rome:20210806T230000
DTSTAMP:20260422T231711
CREATED:20210730T103147Z
LAST-MODIFIED:20210730T103641Z
UID:3491-1628283600-1628290800@www.claudiolardo.it
SUMMARY:[:it]Spettacolo "Il carro di Dioniso" @ Grottole (MT) - 06/08/2021[:en]Show "Il carro di Dioniso" @ Grottole (MT) - 2021.08.06[:]
DESCRIPTION:With Vito Cesaro & Denny Mendez – and: Massimo Pagano\, Claudio Lardo\, Christian Salicone and Filippo D’Amato. Directed by Vito Cesaro
URL:https://www.claudiolardo.it/event/spettacolo-il-carro-di-dioniso-grottole-mt-06-08-2021/
LOCATION:UD
CATEGORIES:Teatro
ATTACH;FMTTYPE=image/jpeg:https://www.claudiolardo.it/wp-content/uploads/2021/07/IlCarroDiDionisoLocandina-Small-1-e1678270152723.jpeg
END:VEVENT
BEGIN:VEVENT
DTSTART;TZID=Europe/Rome:20210805T210000
DTEND;TZID=Europe/Rome:20210805T230000
DTSTAMP:20260422T231711
CREATED:20210730T103147Z
LAST-MODIFIED:20210730T103745Z
UID:3490-1628197200-1628204400@www.claudiolardo.it
SUMMARY:[:it]RINVIATO - Spettacolo "Il carro di Dioniso" @ Parchi Archeologici di Kamarina e Cava d'Ispica (CL) - 05/08/2021[:en]POSTPONED - Show "Il carro di Dioniso" @ Parchi Archeologici di Kamarina e Cava d'Ispica - 2021.08.05[:]
DESCRIPTION:With Vito Cesaro & Denny Mendez – and: Massimo Pagano\, Claudio Lardo\, Christian Salicone and Filippo D’Amato. Directed by Vito Cesaro
URL:https://www.claudiolardo.it/event/rinviato-spettacolo-il-carro-di-dioniso-parchi-archeologici-di-kamarina-e-cava-dispica-cl-05-08-2021/
LOCATION:(Italiano) Parchi Archeologici di Kamarina e Cava d’Ispica\, Area archeologica di Cava d'Ispica\, Ispica\, RG\, 97014\, Italia
CATEGORIES:Teatro
ATTACH;FMTTYPE=image/jpeg:https://www.claudiolardo.it/wp-content/uploads/2021/07/IlCarroDiDionisoLocandina-Small-1-e1678270152723.jpeg
ORGANIZER;CN="Teatri di Pietra":MAILTO:teatridipietra@gmail.com
END:VEVENT
BEGIN:VEVENT
DTSTART;TZID=Europe/Rome:20210804T210000
DTEND;TZID=Europe/Rome:20210804T230000
DTSTAMP:20260422T231711
CREATED:20210730T103147Z
LAST-MODIFIED:20210730T103836Z
UID:3488-1628110800-1628118000@www.claudiolardo.it
SUMMARY:[:it]RINVIATO - Spettacolo "Il carro di Dioniso" @ Gela (CL) - 04/08/2021[:en]POSTPONED - Show "Il carro di Dioniso" @ Gela (CL) - 2021.08.04[:]
DESCRIPTION:With Vito Cesaro & Denny Mendez – and: Massimo Pagano\, Claudio Lardo\, Christian Salicone and Filippo D’Amato. Directed by Vito Cesaro
URL:https://www.claudiolardo.it/event/rinviato-spettacolo-il-carro-di-dioniso-gela-cl-04-08-2021-2/
LOCATION:UD
CATEGORIES:Teatro
ATTACH;FMTTYPE=image/jpeg:https://www.claudiolardo.it/wp-content/uploads/2021/07/IlCarroDiDionisoLocandina-Small-1-e1678270152723.jpeg
END:VEVENT
BEGIN:VEVENT
DTSTART;TZID=Europe/Rome:20210801T193000
DTEND;TZID=Europe/Rome:20210801T220000
DTSTAMP:20260422T231711
CREATED:20210730T091834Z
LAST-MODIFIED:20210730T094413Z
UID:3446-1627846200-1627855200@www.claudiolardo.it
SUMMARY:[:it]Spettacolo "Il carro di Dioniso" @ Area archeologica - Roccagloriosa (SA) - 01/08/2021[:]
DESCRIPTION:Sorry\, this entry is only available in Italiano.
URL:https://www.claudiolardo.it/event/spettacolo-il-carro-di-dioniso-tarea-archeologica-roccagloriosa-sa-01-08-2021/
LOCATION:Area archeologica di Roccagloriosa\, Area archeologica di Roccagloriosa - SP19\, Roccagloriosa\, SA\, 84060\, Italia
CATEGORIES:Teatro
ATTACH;FMTTYPE=image/jpeg:https://www.claudiolardo.it/wp-content/uploads/2021/07/IlCarroDiDionisoLocandina-Small-1-e1678270152723.jpeg
END:VEVENT
BEGIN:VEVENT
DTSTART;TZID=Europe/Rome:20210731T210000
DTEND;TZID=Europe/Rome:20210731T233000
DTSTAMP:20260422T231711
CREATED:20210730T080943Z
LAST-MODIFIED:20210730T093814Z
UID:3421-1627765200-1627774200@www.claudiolardo.it
SUMMARY:[:it]Spettacolo "Il carro di Dioniso" @ Teatro Romano Teanum Sidicium - Teano (CE) - 31/07/2021[:]
DESCRIPTION:Sorry\, this entry is only available in Italiano.
URL:https://www.claudiolardo.it/event/spettacolo-il-carro-di-dioniso-teatro-romano-teanum-sidicium-teano-ce-31-07-2021/
LOCATION:Teatro Romano Teanum Sidicium\, Teatro Romano di Teano - Via Anfiteatro\, Teano\, CE\, 81057\, Italia
CATEGORIES:Teatro
ATTACH;FMTTYPE=image/jpeg:https://www.claudiolardo.it/wp-content/uploads/2021/07/IlCarroDiDionisoLocandina-Small-1-e1678270152723.jpeg
ORGANIZER;CN="Teatri di Pietra":MAILTO:teatridipietra@gmail.com
END:VEVENT
BEGIN:VEVENT
DTSTART;TZID=Europe/Rome:20200816T213000
DTEND;TZID=Europe/Rome:20200816T233000
DTSTAMP:20260422T231711
CREATED:20200813T093857Z
LAST-MODIFIED:20210730T075632Z
UID:3242-1597613400-1597620600@www.claudiolardo.it
SUMMARY:Spettacolo "Emozioni" @ Piazza Garibaldi - Portigliola (RC) - 16/08/2020
DESCRIPTION:Lo spettacolo Emozioni torna in scena nella piazza Garibaldi di Portigliola (RC). \ncon Vito Cesaro\, Claudio Lardo\, Carmine Monaco.
URL:https://www.claudiolardo.it/event/spettacolo-emozioni-piazza-garibaldi-portigliola-rc-16-08-2020/
LOCATION:UD
CATEGORIES:Teatro
ATTACH;FMTTYPE=image/jpeg:https://www.claudiolardo.it/wp-content/uploads/2017/10/Emozioni-Locandina-Nuova-Small.jpg
END:VEVENT
BEGIN:VEVENT
DTSTART;TZID=Europe/Rome:20200815T050000
DTEND;TZID=Europe/Rome:20200815T063000
DTSTAMP:20260422T231711
CREATED:20200813T093142Z
LAST-MODIFIED:20200813T093239Z
UID:3240-1597467600-1597473000@www.claudiolardo.it
SUMMARY:[:it]Spettacolo "Emozioni" @ Teatro greco-romano di Portigliola (RC) - All'alba del 15/08/2020[:]
DESCRIPTION:Sorry\, this entry is only available in Italiano.
URL:https://www.claudiolardo.it/event/spettacolo-emozioni-teatro-greco-romano-di-portigliola-rc-allalba-del-15-08-2020/
LOCATION:Teatro Greco Romano\, Parco Archeologico di Locri Epizefiri - Contrada Drome\, Portigliola\, RC\, 89040\, Italia
CATEGORIES:Teatro
ATTACH;FMTTYPE=image/jpeg:https://www.claudiolardo.it/wp-content/uploads/2017/10/Emozioni-Locandina-Nuova-Small.jpg
END:VEVENT
END:VCALENDAR