BEGIN:VCALENDAR
VERSION:2.0
PRODID:-//Claudio Lardo - ECPv6.15.20//NONSGML v1.0//EN
CALSCALE:GREGORIAN
METHOD:PUBLISH
X-WR-CALNAME:Claudio Lardo
X-ORIGINAL-URL:https://www.claudiolardo.it
X-WR-CALDESC:Eventi per Claudio Lardo
REFRESH-INTERVAL;VALUE=DURATION:PT1H
X-Robots-Tag:noindex
X-PUBLISHED-TTL:PT1H
BEGIN:VTIMEZONE
TZID:Europe/Rome
BEGIN:DAYLIGHT
TZOFFSETFROM:+0100
TZOFFSETTO:+0200
TZNAME:CEST
DTSTART:20250330T010000
END:DAYLIGHT
BEGIN:STANDARD
TZOFFSETFROM:+0200
TZOFFSETTO:+0100
TZNAME:CET
DTSTART:20251026T010000
END:STANDARD
BEGIN:DAYLIGHT
TZOFFSETFROM:+0100
TZOFFSETTO:+0200
TZNAME:CEST
DTSTART:20260329T010000
END:DAYLIGHT
BEGIN:STANDARD
TZOFFSETFROM:+0200
TZOFFSETTO:+0100
TZNAME:CET
DTSTART:20261025T010000
END:STANDARD
BEGIN:DAYLIGHT
TZOFFSETFROM:+0100
TZOFFSETTO:+0200
TZNAME:CEST
DTSTART:20270328T010000
END:DAYLIGHT
BEGIN:STANDARD
TZOFFSETFROM:+0200
TZOFFSETTO:+0100
TZNAME:CET
DTSTART:20271031T010000
END:STANDARD
END:VTIMEZONE
BEGIN:VEVENT
DTSTART;TZID=Europe/Rome:20260214T210000
DTEND;TZID=Europe/Rome:20260214T230000
DTSTAMP:20260421T151817
CREATED:20251113T082632Z
LAST-MODIFIED:20251113T084143Z
UID:4387-1771102800-1771110000@www.claudiolardo.it
SUMMARY:[:it]Spettacolo "La scuola delle Mogli" - @ Teatro Le Laudi - Firenze - 14/02/2026[:en]Play "La scuola delle Mogli" - @ Teatro Le Laudi - Firenze - 2026/02/14[:]
DESCRIPTION:Arnolfo (Vito Cesaro)\, decide di sposare la giovane Agnese (Matilde Brandi) cresciuta ed educata fin da bambina alla più profonda ingenuità e semplicità. Infatti\, l’uomo\, è convinto che solo le donne educate\, istruite e mondane siano in grado di tradire un uomo\, nonostante il suo amico Crisaldo (Claudio Lardo) cerchi invano di dissuaderlo e\, per questo\, la tiene rinchiusa sotto la sorveglianza di due fidati servitori: Alano (Alfredo Crisci) e Giorgina (Gerardina Tesauro). Invece la ragazza è talmente ingenua e semplice da non poter nemmeno comprendere la possibilità di tradire. Sarà proprio questa stessa ingenuità a farla cadere nelle braccia di un’altro uomo\, Orazio (Christian Salicone) proprio perché “semplicemente” innamorata.\nSe volessimo declinarla ai giorni nostri potremmo vederci una stupenda commedia romantica in cui l’amore vince su tutto\, in quanto sentimento genuino\, viscerale\, senza sovrastrutture intellettuali.
URL:https://www.claudiolardo.it/event/spettacolo-la-scuola-delle-mogli-teatro-le-laudi-firenze-14-02-2026/
LOCATION:Teatro Le Laudi\, Via Leonardo Da Vinci 2r\, Firenze\, FI\, 50132\, Italy
CATEGORIES:Teatro
ATTACH;FMTTYPE=image/jpeg:https://www.claudiolardo.it/wp-content/uploads/2025/08/LocandinaNuova.jpg
END:VEVENT
BEGIN:VEVENT
DTSTART;TZID=Europe/Rome:20260215T170000
DTEND;TZID=Europe/Rome:20260215T190000
DTSTAMP:20260421T151817
CREATED:20251113T082821Z
LAST-MODIFIED:20251113T082821Z
UID:4390-1771174800-1771182000@www.claudiolardo.it
SUMMARY:[:it]Spettacolo "La scuola delle Mogli" - @ Teatro Le Laudi - Firenze - 15/02/2026[:en]Play "La scuola delle Mogli" - @ Teatro Le Laudi - Firenze - 2026/02/15[:]
DESCRIPTION:Arnolfo (Vito Cesaro)\, decide di sposare la giovane Agnese (Matilde Brandi) cresciuta ed educata fin da bambina alla più profonda ingenuità e semplicità. Infatti\, l’uomo\, è convinto che solo le donne educate\, istruite e mondane siano in grado di tradire un uomo\, nonostante il suo amico Crisaldo (Claudio Lardo) cerchi invano di dissuaderlo e\, per questo\, la tiene rinchiusa sotto la sorveglianza di due fidati servitori: Alano (Alfredo Crisci) e Giorgina (Gerardina Tesauro). Invece la ragazza è talmente ingenua e semplice da non poter nemmeno comprendere la possibilità di tradire. Sarà proprio questa stessa ingenuità a farla cadere nelle braccia di un’altro uomo\, Orazio (Christian Salicone) proprio perché “semplicemente” innamorata.\nSe volessimo declinarla ai giorni nostri potremmo vederci una stupenda commedia romantica in cui l’amore vince su tutto\, in quanto sentimento genuino\, viscerale\, senza sovrastrutture intellettuali.
URL:https://www.claudiolardo.it/event/spettacolo-la-scuola-delle-mogli-teatro-le-laudi-firenze-15-02-2026/
LOCATION:Teatro Le Laudi\, Via Leonardo Da Vinci 2r\, Firenze\, FI\, 50132\, Italy
CATEGORIES:Teatro
ATTACH;FMTTYPE=image/jpeg:https://www.claudiolardo.it/wp-content/uploads/2025/08/LocandinaNuova.jpg
END:VEVENT
BEGIN:VEVENT
DTSTART;TZID=Europe/Rome:20260221T204500
DTEND;TZID=Europe/Rome:20260221T224500
DTSTAMP:20260421T151817
CREATED:20251113T083222Z
LAST-MODIFIED:20251113T083222Z
UID:4392-1771706700-1771713900@www.claudiolardo.it
SUMMARY:[:it]Spettacolo "La scuola delle Mogli" - @ Teatro della Corte - Osoppo (UD) - 21/02/2026[:en]Play "La scuola delle Mogli" - @ Teatro della Corte - Osoppo (UD) - 2026/02/21[:]
DESCRIPTION:Arnolfo (Vito Cesaro)\, decide di sposare la giovane Agnese (Matilde Brandi) cresciuta ed educata fin da bambina alla più profonda ingenuità e semplicità. Infatti\, l’uomo\, è convinto che solo le donne educate\, istruite e mondane siano in grado di tradire un uomo\, nonostante il suo amico Crisaldo (Claudio Lardo) cerchi invano di dissuaderlo e\, per questo\, la tiene rinchiusa sotto la sorveglianza di due fidati servitori: Alano (Alfredo Crisci) e Giorgina (Gerardina Tesauro). Invece la ragazza è talmente ingenua e semplice da non poter nemmeno comprendere la possibilità di tradire. Sarà proprio questa stessa ingenuità a farla cadere nelle braccia di un’altro uomo\, Orazio (Christian Salicone) proprio perché “semplicemente” innamorata.\nSe volessimo declinarla ai giorni nostri potremmo vederci una stupenda commedia romantica in cui l’amore vince su tutto\, in quanto sentimento genuino\, viscerale\, senza sovrastrutture intellettuali.
URL:https://www.claudiolardo.it/event/spettacolo-la-scuola-delle-mogli-teatro-della-corte-osoppo-ud-21-02-2026/
LOCATION:Teatro della Corte\, Via XXII novembre 3\, Osoppo\, UD\, 33010\, Italia
CATEGORIES:Teatro
ATTACH;FMTTYPE=image/jpeg:https://www.claudiolardo.it/wp-content/uploads/2025/08/LocandinaNuova.jpg
END:VEVENT
BEGIN:VEVENT
DTSTART;TZID=Europe/Rome:20260315T210000
DTEND;TZID=Europe/Rome:20260315T230000
DTSTAMP:20260421T151817
CREATED:20251113T081225Z
LAST-MODIFIED:20260212T141016Z
UID:4379-1773608400-1773615600@www.claudiolardo.it
SUMMARY:[:it]Spettacolo "La scuola delle Mogli" - @ Teatro "P.Mandanici" - Barcellona P.G. (ME) - 15/03/2026[:en]Play "La scuola delle Mogli" - @ Teatro "P.Mandanici" - Barcellona P.G. (ME) - 2026/03/15[:]
DESCRIPTION:Arnolfo (Vito Cesaro) decides to marry the young Agnese (Matilde Brandi)\, who has been raised and educated from childhood in the deepest naivety and simplicity. Arnolfo is convinced that only educated\, cultured\, and worldly women are capable of betraying a man\, despite his friend Crisaldo (Claudio Lardo) trying in vain to dissuade him. To ensure her innocence\, Arnolfo keeps Agnese confined under the watchful eyes of two trusted servants\, Alano (Alfredo Crisci) and Giorgina (Gerardina Tesauro). However\, Agnese is so naive and simple that she cannot even comprehend the idea of betrayal. Ironically\, it is this very innocence that leads her into the arms of another man\, Orazio (Christian Salicone)\, as she falls for him purely and “simply” out of love. \nIf adapted to our modern times\, this story could be seen as a wonderful romantic comedy where love triumphs over everything\, as a genuine and visceral emotion\, free from intellectual complications.
URL:https://www.claudiolardo.it/event/spettacolo-la-scuola-delle-mogli-teatro-p-mandanici-barcellona-p-g-me-23-01-2026/
LOCATION:Teatro comunale “Placido Mandanici”\, Villa Primo Levi\, via G. Parini\, Barcellona Pozzo di Gotto\, ME\, 98051\, Italy
CATEGORIES:Teatro
ATTACH;FMTTYPE=image/jpeg:https://www.claudiolardo.it/wp-content/uploads/2025/08/LocandinaNuova.jpg
END:VEVENT
END:VCALENDAR