BEGIN:VCALENDAR
VERSION:2.0
PRODID:-//Claudio Lardo - ECPv6.15.20//NONSGML v1.0//EN
CALSCALE:GREGORIAN
METHOD:PUBLISH
X-ORIGINAL-URL:https://www.claudiolardo.it
X-WR-CALDESC:Eventi per Claudio Lardo
REFRESH-INTERVAL;VALUE=DURATION:PT1H
X-Robots-Tag:noindex
X-PUBLISHED-TTL:PT1H
BEGIN:VTIMEZONE
TZID:Europe/Rome
BEGIN:DAYLIGHT
TZOFFSETFROM:+0100
TZOFFSETTO:+0200
TZNAME:CEST
DTSTART:19690531T230000
END:DAYLIGHT
BEGIN:STANDARD
TZOFFSETFROM:+0200
TZOFFSETTO:+0100
TZNAME:CET
DTSTART:19690927T230000
END:STANDARD
BEGIN:DAYLIGHT
TZOFFSETFROM:+0100
TZOFFSETTO:+0200
TZNAME:CEST
DTSTART:19700530T230000
END:DAYLIGHT
BEGIN:STANDARD
TZOFFSETFROM:+0200
TZOFFSETTO:+0100
TZNAME:CET
DTSTART:19700926T230000
END:STANDARD
BEGIN:DAYLIGHT
TZOFFSETFROM:+0100
TZOFFSETTO:+0200
TZNAME:CEST
DTSTART:19710522T230000
END:DAYLIGHT
BEGIN:STANDARD
TZOFFSETFROM:+0200
TZOFFSETTO:+0100
TZNAME:CET
DTSTART:19710925T230000
END:STANDARD
BEGIN:DAYLIGHT
TZOFFSETFROM:+0100
TZOFFSETTO:+0200
TZNAME:CEST
DTSTART:19720527T230000
END:DAYLIGHT
BEGIN:STANDARD
TZOFFSETFROM:+0200
TZOFFSETTO:+0100
TZNAME:CET
DTSTART:19720930T230000
END:STANDARD
BEGIN:DAYLIGHT
TZOFFSETFROM:+0100
TZOFFSETTO:+0200
TZNAME:CEST
DTSTART:19730602T230000
END:DAYLIGHT
BEGIN:STANDARD
TZOFFSETFROM:+0200
TZOFFSETTO:+0100
TZNAME:CET
DTSTART:19730929T230000
END:STANDARD
BEGIN:DAYLIGHT
TZOFFSETFROM:+0100
TZOFFSETTO:+0200
TZNAME:CEST
DTSTART:19740525T230000
END:DAYLIGHT
BEGIN:STANDARD
TZOFFSETFROM:+0200
TZOFFSETTO:+0100
TZNAME:CET
DTSTART:19740928T230000
END:STANDARD
BEGIN:DAYLIGHT
TZOFFSETFROM:+0100
TZOFFSETTO:+0200
TZNAME:CEST
DTSTART:19750531T230000
END:DAYLIGHT
BEGIN:STANDARD
TZOFFSETFROM:+0200
TZOFFSETTO:+0100
TZNAME:CET
DTSTART:19750927T230000
END:STANDARD
BEGIN:DAYLIGHT
TZOFFSETFROM:+0100
TZOFFSETTO:+0200
TZNAME:CEST
DTSTART:19760529T230000
END:DAYLIGHT
BEGIN:STANDARD
TZOFFSETFROM:+0200
TZOFFSETTO:+0100
TZNAME:CET
DTSTART:19760925T230000
END:STANDARD
BEGIN:DAYLIGHT
TZOFFSETFROM:+0100
TZOFFSETTO:+0200
TZNAME:CEST
DTSTART:19770521T230000
END:DAYLIGHT
BEGIN:STANDARD
TZOFFSETFROM:+0200
TZOFFSETTO:+0100
TZNAME:CET
DTSTART:19770924T230000
END:STANDARD
BEGIN:DAYLIGHT
TZOFFSETFROM:+0100
TZOFFSETTO:+0200
TZNAME:CEST
DTSTART:19780527T230000
END:DAYLIGHT
BEGIN:STANDARD
TZOFFSETFROM:+0200
TZOFFSETTO:+0100
TZNAME:CET
DTSTART:19780930T230000
END:STANDARD
BEGIN:DAYLIGHT
TZOFFSETFROM:+0100
TZOFFSETTO:+0200
TZNAME:CEST
DTSTART:19790526T230000
END:DAYLIGHT
BEGIN:STANDARD
TZOFFSETFROM:+0200
TZOFFSETTO:+0100
TZNAME:CET
DTSTART:19790929T230000
END:STANDARD
BEGIN:DAYLIGHT
TZOFFSETFROM:+0100
TZOFFSETTO:+0200
TZNAME:CEST
DTSTART:19800406T010000
END:DAYLIGHT
BEGIN:STANDARD
TZOFFSETFROM:+0200
TZOFFSETTO:+0100
TZNAME:CET
DTSTART:19800928T010000
END:STANDARD
BEGIN:DAYLIGHT
TZOFFSETFROM:+0100
TZOFFSETTO:+0200
TZNAME:CEST
DTSTART:19810329T010000
END:DAYLIGHT
BEGIN:STANDARD
TZOFFSETFROM:+0200
TZOFFSETTO:+0100
TZNAME:CET
DTSTART:19810927T010000
END:STANDARD
BEGIN:DAYLIGHT
TZOFFSETFROM:+0100
TZOFFSETTO:+0200
TZNAME:CEST
DTSTART:19820328T010000
END:DAYLIGHT
BEGIN:STANDARD
TZOFFSETFROM:+0200
TZOFFSETTO:+0100
TZNAME:CET
DTSTART:19820926T010000
END:STANDARD
BEGIN:DAYLIGHT
TZOFFSETFROM:+0100
TZOFFSETTO:+0200
TZNAME:CEST
DTSTART:19830327T010000
END:DAYLIGHT
BEGIN:STANDARD
TZOFFSETFROM:+0200
TZOFFSETTO:+0100
TZNAME:CET
DTSTART:19830925T010000
END:STANDARD
BEGIN:DAYLIGHT
TZOFFSETFROM:+0100
TZOFFSETTO:+0200
TZNAME:CEST
DTSTART:19840325T010000
END:DAYLIGHT
BEGIN:STANDARD
TZOFFSETFROM:+0200
TZOFFSETTO:+0100
TZNAME:CET
DTSTART:19840930T010000
END:STANDARD
BEGIN:DAYLIGHT
TZOFFSETFROM:+0100
TZOFFSETTO:+0200
TZNAME:CEST
DTSTART:19850331T010000
END:DAYLIGHT
BEGIN:STANDARD
TZOFFSETFROM:+0200
TZOFFSETTO:+0100
TZNAME:CET
DTSTART:19850929T010000
END:STANDARD
BEGIN:DAYLIGHT
TZOFFSETFROM:+0100
TZOFFSETTO:+0200
TZNAME:CEST
DTSTART:19860330T010000
END:DAYLIGHT
BEGIN:STANDARD
TZOFFSETFROM:+0200
TZOFFSETTO:+0100
TZNAME:CET
DTSTART:19860928T010000
END:STANDARD
BEGIN:DAYLIGHT
TZOFFSETFROM:+0100
TZOFFSETTO:+0200
TZNAME:CEST
DTSTART:19870329T010000
END:DAYLIGHT
BEGIN:STANDARD
TZOFFSETFROM:+0200
TZOFFSETTO:+0100
TZNAME:CET
DTSTART:19870927T010000
END:STANDARD
BEGIN:DAYLIGHT
TZOFFSETFROM:+0100
TZOFFSETTO:+0200
TZNAME:CEST
DTSTART:19880327T010000
END:DAYLIGHT
BEGIN:STANDARD
TZOFFSETFROM:+0200
TZOFFSETTO:+0100
TZNAME:CET
DTSTART:19880925T010000
END:STANDARD
BEGIN:DAYLIGHT
TZOFFSETFROM:+0100
TZOFFSETTO:+0200
TZNAME:CEST
DTSTART:19890326T010000
END:DAYLIGHT
BEGIN:STANDARD
TZOFFSETFROM:+0200
TZOFFSETTO:+0100
TZNAME:CET
DTSTART:19890924T010000
END:STANDARD
BEGIN:DAYLIGHT
TZOFFSETFROM:+0100
TZOFFSETTO:+0200
TZNAME:CEST
DTSTART:19900325T010000
END:DAYLIGHT
BEGIN:STANDARD
TZOFFSETFROM:+0200
TZOFFSETTO:+0100
TZNAME:CET
DTSTART:19900930T010000
END:STANDARD
BEGIN:DAYLIGHT
TZOFFSETFROM:+0100
TZOFFSETTO:+0200
TZNAME:CEST
DTSTART:19910331T010000
END:DAYLIGHT
BEGIN:STANDARD
TZOFFSETFROM:+0200
TZOFFSETTO:+0100
TZNAME:CET
DTSTART:19910929T010000
END:STANDARD
BEGIN:DAYLIGHT
TZOFFSETFROM:+0100
TZOFFSETTO:+0200
TZNAME:CEST
DTSTART:19920329T010000
END:DAYLIGHT
BEGIN:STANDARD
TZOFFSETFROM:+0200
TZOFFSETTO:+0100
TZNAME:CET
DTSTART:19920927T010000
END:STANDARD
BEGIN:DAYLIGHT
TZOFFSETFROM:+0100
TZOFFSETTO:+0200
TZNAME:CEST
DTSTART:19930328T010000
END:DAYLIGHT
BEGIN:STANDARD
TZOFFSETFROM:+0200
TZOFFSETTO:+0100
TZNAME:CET
DTSTART:19930926T010000
END:STANDARD
BEGIN:DAYLIGHT
TZOFFSETFROM:+0100
TZOFFSETTO:+0200
TZNAME:CEST
DTSTART:19940327T010000
END:DAYLIGHT
BEGIN:STANDARD
TZOFFSETFROM:+0200
TZOFFSETTO:+0100
TZNAME:CET
DTSTART:19940925T010000
END:STANDARD
BEGIN:DAYLIGHT
TZOFFSETFROM:+0100
TZOFFSETTO:+0200
TZNAME:CEST
DTSTART:19950326T010000
END:DAYLIGHT
BEGIN:STANDARD
TZOFFSETFROM:+0200
TZOFFSETTO:+0100
TZNAME:CET
DTSTART:19950924T010000
END:STANDARD
BEGIN:DAYLIGHT
TZOFFSETFROM:+0100
TZOFFSETTO:+0200
TZNAME:CEST
DTSTART:19960331T010000
END:DAYLIGHT
BEGIN:STANDARD
TZOFFSETFROM:+0200
TZOFFSETTO:+0100
TZNAME:CET
DTSTART:19961027T010000
END:STANDARD
BEGIN:DAYLIGHT
TZOFFSETFROM:+0100
TZOFFSETTO:+0200
TZNAME:CEST
DTSTART:19970330T010000
END:DAYLIGHT
BEGIN:STANDARD
TZOFFSETFROM:+0200
TZOFFSETTO:+0100
TZNAME:CET
DTSTART:19971026T010000
END:STANDARD
BEGIN:DAYLIGHT
TZOFFSETFROM:+0100
TZOFFSETTO:+0200
TZNAME:CEST
DTSTART:19980329T010000
END:DAYLIGHT
BEGIN:STANDARD
TZOFFSETFROM:+0200
TZOFFSETTO:+0100
TZNAME:CET
DTSTART:19981025T010000
END:STANDARD
BEGIN:DAYLIGHT
TZOFFSETFROM:+0100
TZOFFSETTO:+0200
TZNAME:CEST
DTSTART:19990328T010000
END:DAYLIGHT
BEGIN:STANDARD
TZOFFSETFROM:+0200
TZOFFSETTO:+0100
TZNAME:CET
DTSTART:19991031T010000
END:STANDARD
BEGIN:DAYLIGHT
TZOFFSETFROM:+0100
TZOFFSETTO:+0200
TZNAME:CEST
DTSTART:20000326T010000
END:DAYLIGHT
BEGIN:STANDARD
TZOFFSETFROM:+0200
TZOFFSETTO:+0100
TZNAME:CET
DTSTART:20001029T010000
END:STANDARD
BEGIN:DAYLIGHT
TZOFFSETFROM:+0100
TZOFFSETTO:+0200
TZNAME:CEST
DTSTART:20010325T010000
END:DAYLIGHT
BEGIN:STANDARD
TZOFFSETFROM:+0200
TZOFFSETTO:+0100
TZNAME:CET
DTSTART:20011028T010000
END:STANDARD
BEGIN:DAYLIGHT
TZOFFSETFROM:+0100
TZOFFSETTO:+0200
TZNAME:CEST
DTSTART:20020331T010000
END:DAYLIGHT
BEGIN:STANDARD
TZOFFSETFROM:+0200
TZOFFSETTO:+0100
TZNAME:CET
DTSTART:20021027T010000
END:STANDARD
BEGIN:DAYLIGHT
TZOFFSETFROM:+0100
TZOFFSETTO:+0200
TZNAME:CEST
DTSTART:20030330T010000
END:DAYLIGHT
BEGIN:STANDARD
TZOFFSETFROM:+0200
TZOFFSETTO:+0100
TZNAME:CET
DTSTART:20031026T010000
END:STANDARD
BEGIN:DAYLIGHT
TZOFFSETFROM:+0100
TZOFFSETTO:+0200
TZNAME:CEST
DTSTART:20040328T010000
END:DAYLIGHT
BEGIN:STANDARD
TZOFFSETFROM:+0200
TZOFFSETTO:+0100
TZNAME:CET
DTSTART:20041031T010000
END:STANDARD
BEGIN:DAYLIGHT
TZOFFSETFROM:+0100
TZOFFSETTO:+0200
TZNAME:CEST
DTSTART:20050327T010000
END:DAYLIGHT
BEGIN:STANDARD
TZOFFSETFROM:+0200
TZOFFSETTO:+0100
TZNAME:CET
DTSTART:20051030T010000
END:STANDARD
BEGIN:DAYLIGHT
TZOFFSETFROM:+0100
TZOFFSETTO:+0200
TZNAME:CEST
DTSTART:20060326T010000
END:DAYLIGHT
BEGIN:STANDARD
TZOFFSETFROM:+0200
TZOFFSETTO:+0100
TZNAME:CET
DTSTART:20061029T010000
END:STANDARD
BEGIN:DAYLIGHT
TZOFFSETFROM:+0100
TZOFFSETTO:+0200
TZNAME:CEST
DTSTART:20070325T010000
END:DAYLIGHT
BEGIN:STANDARD
TZOFFSETFROM:+0200
TZOFFSETTO:+0100
TZNAME:CET
DTSTART:20071028T010000
END:STANDARD
BEGIN:DAYLIGHT
TZOFFSETFROM:+0100
TZOFFSETTO:+0200
TZNAME:CEST
DTSTART:20080330T010000
END:DAYLIGHT
BEGIN:STANDARD
TZOFFSETFROM:+0200
TZOFFSETTO:+0100
TZNAME:CET
DTSTART:20081026T010000
END:STANDARD
BEGIN:DAYLIGHT
TZOFFSETFROM:+0100
TZOFFSETTO:+0200
TZNAME:CEST
DTSTART:20090329T010000
END:DAYLIGHT
BEGIN:STANDARD
TZOFFSETFROM:+0200
TZOFFSETTO:+0100
TZNAME:CET
DTSTART:20091025T010000
END:STANDARD
BEGIN:DAYLIGHT
TZOFFSETFROM:+0100
TZOFFSETTO:+0200
TZNAME:CEST
DTSTART:20100328T010000
END:DAYLIGHT
BEGIN:STANDARD
TZOFFSETFROM:+0200
TZOFFSETTO:+0100
TZNAME:CET
DTSTART:20101031T010000
END:STANDARD
BEGIN:DAYLIGHT
TZOFFSETFROM:+0100
TZOFFSETTO:+0200
TZNAME:CEST
DTSTART:20110327T010000
END:DAYLIGHT
BEGIN:STANDARD
TZOFFSETFROM:+0200
TZOFFSETTO:+0100
TZNAME:CET
DTSTART:20111030T010000
END:STANDARD
BEGIN:DAYLIGHT
TZOFFSETFROM:+0100
TZOFFSETTO:+0200
TZNAME:CEST
DTSTART:20120325T010000
END:DAYLIGHT
BEGIN:STANDARD
TZOFFSETFROM:+0200
TZOFFSETTO:+0100
TZNAME:CET
DTSTART:20121028T010000
END:STANDARD
BEGIN:DAYLIGHT
TZOFFSETFROM:+0100
TZOFFSETTO:+0200
TZNAME:CEST
DTSTART:20130331T010000
END:DAYLIGHT
BEGIN:STANDARD
TZOFFSETFROM:+0200
TZOFFSETTO:+0100
TZNAME:CET
DTSTART:20131027T010000
END:STANDARD
BEGIN:DAYLIGHT
TZOFFSETFROM:+0100
TZOFFSETTO:+0200
TZNAME:CEST
DTSTART:20140330T010000
END:DAYLIGHT
BEGIN:STANDARD
TZOFFSETFROM:+0200
TZOFFSETTO:+0100
TZNAME:CET
DTSTART:20141026T010000
END:STANDARD
BEGIN:DAYLIGHT
TZOFFSETFROM:+0100
TZOFFSETTO:+0200
TZNAME:CEST
DTSTART:20150329T010000
END:DAYLIGHT
BEGIN:STANDARD
TZOFFSETFROM:+0200
TZOFFSETTO:+0100
TZNAME:CET
DTSTART:20151025T010000
END:STANDARD
BEGIN:DAYLIGHT
TZOFFSETFROM:+0100
TZOFFSETTO:+0200
TZNAME:CEST
DTSTART:20160327T010000
END:DAYLIGHT
BEGIN:STANDARD
TZOFFSETFROM:+0200
TZOFFSETTO:+0100
TZNAME:CET
DTSTART:20161030T010000
END:STANDARD
BEGIN:DAYLIGHT
TZOFFSETFROM:+0100
TZOFFSETTO:+0200
TZNAME:CEST
DTSTART:20170326T010000
END:DAYLIGHT
BEGIN:STANDARD
TZOFFSETFROM:+0200
TZOFFSETTO:+0100
TZNAME:CET
DTSTART:20171029T010000
END:STANDARD
BEGIN:DAYLIGHT
TZOFFSETFROM:+0100
TZOFFSETTO:+0200
TZNAME:CEST
DTSTART:20180325T010000
END:DAYLIGHT
BEGIN:STANDARD
TZOFFSETFROM:+0200
TZOFFSETTO:+0100
TZNAME:CET
DTSTART:20181028T010000
END:STANDARD
END:VTIMEZONE
BEGIN:VEVENT
DTSTART;TZID=Europe/Rome:20171116T090000
DTEND;TZID=Europe/Rome:20171116T120000
DTSTAMP:20260422T110955
CREATED:20171031T120550Z
LAST-MODIFIED:20171103T100013Z
UID:2128-1510822800-1510833600@www.claudiolardo.it
SUMMARY:[:it]TRAPANI - "Falcone e Borsellino (ovvero il muro dei martiri)" - 16/11/2017 (matinée)[:en]TRAPANI - Show "Falcone e Borsellino (ovvero il muro dei martiri)" - 2017-11-16 (matinée)[:]
DESCRIPTION:Dramma in musica in un solo atto ispirato alla cronaca e prodotto dal Luglio Musicale Trapanese – Matinée per le scuole.
URL:https://www.claudiolardo.it/event/trapani-spettacolo-falcone-e-borsellino-ovvero-il-muro-dei-martiri-16112017-matinee/
LOCATION:Teatro “M° Tonino Pardo” – Conservatorio di musica “A. Scontrino” di Trapani\, Via Francesco Sceusa\, 6\, Trapani\, 91100\, Italia
CATEGORIES:Teatro
ATTACH;FMTTYPE=image/jpeg:https://www.claudiolardo.it/wp-content/uploads/2017/10/FalconeBorsellino-Locandina.jpg
ORGANIZER;CN="[%3Ait]Ente Luglio Musicale Trapanese[%3A]":MAILTO:info@lugliomusicale.it
END:VEVENT
BEGIN:VEVENT
DTSTART;TZID=Europe/Rome:20171029T180000
DTEND;TZID=Europe/Rome:20171029T210000
DTSTAMP:20260422T110955
CREATED:20171017T143431Z
LAST-MODIFIED:20171019T162122Z
UID:1990-1509300000-1509310800@www.claudiolardo.it
SUMMARY:[:it]Spettacolo "Emozioni" @ Teatro Cyrano di Roma  - 29/10/2017[:en]Spettacolo "Emozioni" @ Teatro Cyrano di Roma - 2017/10/29[:]
DESCRIPTION:Lo spettacolo Emozioni sarà in scena da giovedì 26 a domenica 29 ottobre 2017\, al Teatro Cyrano di Roma\, in via di Santa Maria Mediatrice 22.\ncon Vito Cesaro\, Claudio Lardo\, Carmine Monaco. \ne con la partecipazione di Valerio Monaco
URL:https://www.claudiolardo.it/event/spettacolo-emozioni-teatro-cyrano-di-roma/
LOCATION:Teatro Cyrano\, Via di Santa Maria Mediatrice 22\, Roma\, Italia
CATEGORIES:Teatro
ATTACH;FMTTYPE=image/jpeg:https://www.claudiolardo.it/wp-content/uploads/2017/10/Emozioni-Locandina-Nuova-Small.jpg
END:VEVENT
BEGIN:VEVENT
DTSTART;TZID=Europe/Rome:20171028T210000
DTEND;TZID=Europe/Rome:20171028T230000
DTSTAMP:20260422T110955
CREATED:20171017T143431Z
LAST-MODIFIED:20171019T161959Z
UID:1991-1509224400-1509231600@www.claudiolardo.it
SUMMARY:[:it]Spettacolo "Emozioni" @ Teatro Cyrano di Roma - 28/10/2017[:en]Spettacolo "Emozioni" @ Teatro Cyrano di Roma - 2017/10/28[:]
DESCRIPTION:Lo spettacolo Emozioni sarà in scena da giovedì 26 a domenica 29 ottobre 2017\, al Teatro Cyrano di Roma\, in via di Santa Maria Mediatrice 22.\ncon Vito Cesaro\, Claudio Lardo\, Carmine Monaco. \ne con la partecipazione di Valerio Monaco
URL:https://www.claudiolardo.it/event/spettacolo-emozioni-teatro-cyrano-di-roma-2/
LOCATION:Teatro Cyrano\, Via di Santa Maria Mediatrice 22\, Roma\, Italia
CATEGORIES:Teatro
ATTACH;FMTTYPE=image/jpeg:https://www.claudiolardo.it/wp-content/uploads/2017/10/Emozioni-Locandina-Nuova-Small.jpg
END:VEVENT
BEGIN:VEVENT
DTSTART;TZID=Europe/Rome:20171027T210000
DTEND;TZID=Europe/Rome:20171027T230000
DTSTAMP:20260422T110955
CREATED:20171017T143431Z
LAST-MODIFIED:20171019T161842Z
UID:1992-1509138000-1509145200@www.claudiolardo.it
SUMMARY:[:it]Spettacolo "Emozioni" @ Teatro Cyrano di Roma - 27/10/2017[:en]Spettacolo "Emozioni" @ Teatro Cyrano di Roma - 2017/10/27[:]
DESCRIPTION:Lo spettacolo Emozioni sarà in scena da giovedì 26 a domenica 29 ottobre 2017\, al Teatro Cyrano di Roma\, in via di Santa Maria Mediatrice 22.\ncon Vito Cesaro\, Claudio Lardo\, Carmine Monaco. \ne con la partecipazione di Valerio Monaco
URL:https://www.claudiolardo.it/event/spettacolo-emozioni-teatro-cyrano-di-roma-3/
LOCATION:Teatro Cyrano\, Via di Santa Maria Mediatrice 22\, Roma\, Italia
CATEGORIES:Teatro
ATTACH;FMTTYPE=image/jpeg:https://www.claudiolardo.it/wp-content/uploads/2017/10/Emozioni-Locandina-Nuova-Small.jpg
END:VEVENT
BEGIN:VEVENT
DTSTART;TZID=Europe/Rome:20171026T210000
DTEND;TZID=Europe/Rome:20171026T230000
DTSTAMP:20260422T110955
CREATED:20171017T121209Z
LAST-MODIFIED:20171017T143728Z
UID:1973-1509051600-1509058800@www.claudiolardo.it
SUMMARY:[:it]Spettacolo "Emozioni" @ Teatro Cyrano di Roma - 26/10/2017[:en]The show "Emozioni" @ Teatro Cyrano in Rome - 2017/10/26[:]
DESCRIPTION:Lo spettacolo Emozioni sarà in scena da giovedì 26 a domenica 29 ottobre 2017\, al Teatro Cyrano di Roma\, in via di Santa Maria Mediatrice 22. \ncon Vito Cesaro\, Claudio Lardo\, Carmine Monaco. \ne con la partecipazione di Valerio Monaco
URL:https://www.claudiolardo.it/event/spettacolo-emozioni-al-teatro-cyrano-di-roma/
LOCATION:Teatro Cyrano\, Via di Santa Maria Mediatrice 22\, Roma\, Italia
CATEGORIES:Teatro
ATTACH;FMTTYPE=image/jpeg:https://www.claudiolardo.it/wp-content/uploads/2017/10/Emozioni-Locandina-Nuova-Small.jpg
END:VEVENT
BEGIN:VEVENT
DTSTART;TZID=Europe/Rome:20171020T180000
DTEND;TZID=Europe/Rome:20171020T200000
DTSTAMP:20260422T110955
CREATED:20171017T151436Z
LAST-MODIFIED:20171017T151436Z
UID:1998-1508522400-1508529600@www.claudiolardo.it
SUMMARY:[:it]Reading @ Libreria Mondadori "Via Piave" - 20/10/2017[:en]Reading @ Bookstore Mondadori "Via Piave" - 2017/10/20[:]
DESCRIPTION:Presentazione del libro Ho imparato a gestire la pioggia d’estate di Elisabetta De Sio\, presso la Libreria Mondadori “Via Piave” di Roma\, in via Piave 18.\nIntervengono l’autrice e il prof. Antonio Popolizio\nModera Rosa Leone\n \nLetture di Claudio Lardo \n 
URL:https://www.claudiolardo.it/event/reading-libreria-mondadori-via-piave-20102017/
LOCATION:Libreria Mondadori “Via Piave”\, Via Piave\, 18\, Roma\, 00187\, Italia
ATTACH;FMTTYPE=image/jpeg:https://www.claudiolardo.it/wp-content/uploads/2017/10/Banner.jpg
END:VEVENT
BEGIN:VEVENT
DTSTART;TZID=Europe/Rome:20170413T210000
DTEND;TZID=Europe/Rome:20170413T230000
DTSTAMP:20260422T110955
CREATED:20200813T092501Z
LAST-MODIFIED:20200813T092852Z
UID:3235-1492117200-1492124400@www.claudiolardo.it
SUMMARY:[:it]Spettacolo "Emozioni" @ Teatro Comunale di Cotronei - 13/04/2017[:en]Spettacolo "Emozioni" @ Teatro Cyrano di Roma - 26/10/2017[:]
DESCRIPTION:Lo spettacolo Emozioni sarà in scena il 13 aprile 2017\, al Teatro Comunale di Cotronei (KR)\, in Calabria. \ncon Vito Cesaro\, Claudio Lardo\, Carmine Monaco.
URL:https://www.claudiolardo.it/event/spettacolo-emozioni-teatro-comunale-di-cotronei-13-04-2017/
CATEGORIES:Teatro
ATTACH;FMTTYPE=image/jpeg:https://www.claudiolardo.it/wp-content/uploads/2017/10/Emozioni-Locandina-Nuova-Small.jpg
END:VEVENT
BEGIN:VEVENT
DTSTART;TZID=Europe/Rome:20170408T210000
DTEND;TZID=Europe/Rome:20170408T230000
DTSTAMP:20260422T110955
CREATED:20200813T092812Z
LAST-MODIFIED:20200813T092921Z
UID:3238-1491685200-1491692400@www.claudiolardo.it
SUMMARY:[:it]Spettacolo "Emozioni" @ Teatro sociale "Aldo Giuffré" di Battipaglia - 08/04/2017[:]
DESCRIPTION:Lo spettacolo Emozioni sarà in scena l’8 aprile 2017\, al Teatro sociale “Aldo Giuffré” di Battipaglia (SA). \ncon Vito Cesaro\, Claudio Lardo\, Carmine Monaco.
URL:https://www.claudiolardo.it/event/spettacolo-emozioni-teatro-sociale-aldo-giuffre-di-battipaglia-08-04-2017/
CATEGORIES:Teatro
END:VEVENT
BEGIN:VEVENT
DTSTART;TZID=Europe/Rome:20260422T110955
DTEND;TZID=Europe/Rome:20260422T110955
DTSTAMP:20260422T110955
CREATED:20210730T103147Z
LAST-MODIFIED:20210730T103147Z
UID:3489-0-0@www.claudiolardo.it
SUMMARY:Link
DESCRIPTION:Event Show Map
URL:https://www.claudiolardo.it/event/link/
END:VEVENT
END:VCALENDAR